{"text_format":"1","workbook":"xlsx","n_sheets":2,"sheets":["見積書","請求書"],"not_rendered":{"charts":0,"images":0,"macros":1,"external_links":0,"defined_names":2,"comments":0,"pivot_tables":0},"unopened":[],"bounds":{"document_bytes":16777216,"sheet_cells":100000,"rows_first":2000,"rows_last":500,"rows_between":2000,"halvings":0,"cell_chars":16384,"cell_head_chars":4096},"cells_cut":0,"cells_raw":0,"read":"whole","date_system":"1900"}

{"sheet":"見積書","index":0,"n_rows":52,"n_cols":15,"rows_kept":52,"cut":false,"hidden":false,"merged":[[49,8,49,9],[49,10,49,11],[49,12,49,13],[46,1,46,7],[46,10,46,11],[46,12,46,13],[48,8,48,9],[48,12,48,13],[48,4,48,6],[44,1,44,7],[44,10,44,11],[44,12,44,13],[45,1,45,7],[45,10,45,11],[45,12,45,13],[42,1,42,7],[42,10,42,11],[42,12,42,13],[43,1,43,7],[43,10,43,11],[43,12,43,13],[40,1,40,7],[40,10,40,11],[40,12,40,13],[41,1,41,7],[41,10,41,11],[41,12,41,13],[38,1,38,7],[38,10,38,11],[38,12,38,13],[39,1,39,7],[39,10,39,11],[39,12,39,13],[36,1,36,7],[36,10,36,11],[36,12,36,13],[37,1,37,7],[37,10,37,11],[37,12,37,13],[34,1,34,7],[34,10,34,11],[34,12,34,13],[35,1,35,7],[35,10,35,11],[35,12,35,13],[32,1,32,7],[32,10,32,11],[32,12,32,13],[33,1,33,7],[33,10,33,11],[33,12,33,13],[30,1,30,7],[30,10,30,11],[30,12,30,13],[31,1,31,7],[31,10,31,11],[31,12,31,13],[28,1,28,7],[28,10,28,11],[28,12,28,13],[29,1,29,7],[29,10,29,11],[29,12,29,13],[26,1,26,7],[26,10,26,11],[26,12,26,13],[27,1,27,7],[27,10,27,11],[27,12,27,13],[24,1,24,7],[24,10,24,11],[24,12,24,13],[25,1,25,7],[25,10,25,11],[25,12,25,13],[22,1,22,7],[22,10,22,11],[22,12,22,13],[23,1,23,7],[23,10,23,11],[23,12,23,13],[20,1,20,7],[20,10,20,11],[20,12,20,13],[21,1,21,7],[21,10,21,11],[21,12,21,13],[18,1,18,7],[18,10,18,11],[18,12,18,13],[19,1,19,7],[19,10,19,11],[19,12,19,13],[16,1,16,7],[16,8,16,9],[16,10,16,11],[16,12,16,13],[17,1,17,7],[17,10,17,11],[17,12,17,13],[5,1,6,6],[5,10,6,14],[10,1,11,4],[10,5,11,8],[15,8,15,9],[15,10,15,11],[15,12,15,13]]}
[null,null,null,null,null,null,null,null,null,null,"No：","123456-123",null,"発行日：","2025-06-27"]
[]
[]
[null,null,null,null,null,null,null,null,null,null,"株式会社 日本サンプル"]
[null,"〒 123-1234 東京都世田谷区〇〇〇 1-2-3",null,null,null,null,null,null,null,null,"東京都杉並区〇〇〇１－２－３"]
[null,"株式会社サンプル　〇〇支社",null,null,null,null,null,null,null,null,"△△△ビル １Ｆ １２３ "]
[]
[null,"営業部　担当者：△△  □□ 様",null,null,null,null,null,null,null,null,"☎ 03-1234-5678　✉ info@japansample.com "]
[]
[null,"下記の通りお見積り申し上げます。"]
[null,"見積金額(税込)",null,null,null,{"$f":"$M$50","v":407957393}]
[]
[]
[]
[]
[]
[null,"商品名 / 品目",null,null,null,null,null,null,"数　量",null,"単　価",null,"金　額",null,"備 考"]
[null,"○○○○○○　サンプル　タイプＡ",null,null,null,null,null,null,12345678,"個数",10,null,{"$f":"I18*K18","v":123456780},null," "]
[null,"△△△△　システム機器( 自動調整タイプ )",null,null,null,null,null,null,2,"台",123456789,null,{"$f":"I19*K19","v":246913578},null,"担当：〇〇"]
[null,"△△△△　システムの取付作業",null,null,null,null,null,null,3,"人",30000,null,{"$f":"I20*K20","v":90000},null," "]
[null,"△△△△　システムの操作説明　講習会",null,null,null,null,null,null,40,"個数",4000,null,160000,null," "]
[null,"□□□□○○○○素材　( ✖✖ を含む )",null,null,null,null,null,null,50,"Kg",5000,null,250000,null," "]
[null," ",null,null,null,null,null,null,null," ",null,null,0,null," "]
[null," ",null,null,null,null,null,null,null," ",null,null,{"$f":"I24*K24","v":0},null," "]
[null," ",null,null,null,null,null,null,null," ",null,null,{"$f":"I25*K25","v":0},null," "]
[null," ",null,null,null,null,null,null,null," ",null,null,{"$f":"I26*K26","v":0},null," "]
[null," ",null,null,null,null,null,null,null," ",null,null,0,null," "]
[null," ",null,null,null,null,null,null,null," ",null,null,0,null," "]
[null," ",null,null,null,null,null,null,null," ",null,null,0,null," "]
[null," ",null,null,null,null,null,null,null," ",null,null,0,null," "]
[null," ",null,null,null,null,null,null,null," ",null,null,0,null," "]
[null," ",null,null,null,null,null,null,null," ",null,null,0,null," "]
[null," ",null,null,null,null,null,null,null," ",null,null,0,null," "]
[null," ",null,null,null,null,null,null,null," ",null,null,0,null," "]
[null," ",null,null,null,null,null,null,null," ",null,null,0,null," "]
[null," ",null,null,null,null,null,null,null," ",null,null,{"$f":"I36*K36","v":0},null," "]
[null," ",null,null,null,null,null,null,null," ",null,null,{"$f":"I37*K37","v":0},null," "]
[null," ",null,null,null,null,null,null,null," ",null,null,{"$f":"I38*K38","v":0},null," "]
[null," ",null,null,null,null,null,null,null," ",null,null,0,null," "]
[null," ",null,null,null,null,null,null,null," ",null,null,0,null," "]
[null," ",null,null,null,null,null,null,null," ",null,null,0,null," "]
[null," ",null,null,null,null,null,null,null," ",null,null,0,null," "]
[null," ",null,null,null,null,null,null,null," ",null,null,0,null," "]
[null," ",null,null,null,null,null,null,null," ",null,null,0,null," "]
[null," ",null,null,null,null,null,null,null," ",null,null,0,null," "]
[null," ",null,null,null,null,null,null,null," ",null,null,0,null," "]
[null," ",null,null,null,null,null,null,null," ",null,null,0,null," "]
[]
[null,null,null,"見積書の有効期限：","2021-12-31",null,null,null,"小　計 (税抜)",null,"消費税",10,"合　計 (税込)"]
[null,null,null,null,null,null,null,null,{"$f":"SUM(M18:N47)","v":370870358},null,{"$f":"INT(I50*L49/100)","v":37087035},null,{"$f":"I50+K50","v":407957393}]
[]
[null,"備考欄："]

{"sheet":"請求書","index":1,"n_rows":52,"n_cols":15,"rows_kept":52,"cut":false,"hidden":false,"merged":[[43,1,43,7],[44,1,44,7],[45,1,45,7],[46,1,46,7],[48,1,48,4],[37,1,37,7],[38,1,38,7],[39,1,39,7],[40,1,40,7],[41,1,41,7],[42,1,42,7],[31,1,31,7],[32,1,32,7],[33,1,33,7],[34,1,34,7],[35,1,35,7],[36,1,36,7],[25,1,25,7],[26,1,26,7],[27,1,27,7],[28,1,28,7],[29,1,29,7],[30,1,30,7],[49,8,49,9],[49,10,49,11],[49,12,49,13],[17,1,17,7],[19,1,19,7],[20,1,20,7],[21,1,21,7],[22,1,22,7],[23,1,23,7],[24,1,24,7],[45,10,45,11],[45,12,45,13],[46,10,46,11],[46,12,46,13],[48,8,48,9],[48,12,48,13],[42,10,42,11],[42,12,42,13],[43,10,43,11],[43,12,43,13],[44,10,44,11],[44,12,44,13],[39,10,39,11],[39,12,39,13],[40,10,40,11],[40,12,40,13],[41,10,41,11],[41,12,41,13],[36,10,36,11],[36,12,36,13],[37,10,37,11],[37,12,37,13],[38,10,38,11],[38,12,38,13],[33,10,33,11],[33,12,33,13],[34,10,34,11],[34,12,34,13],[35,10,35,11],[35,12,35,13],[30,10,30,11],[30,12,30,13],[31,10,31,11],[31,12,31,13],[32,10,32,11],[32,12,32,13],[27,10,27,11],[27,12,27,13],[28,10,28,11],[28,12,28,13],[29,10,29,11],[29,12,29,13],[24,10,24,11],[24,12,24,13],[25,10,25,11],[25,12,25,13],[26,10,26,11],[26,12,26,13],[21,10,21,11],[21,12,21,13],[22,10,22,11],[22,12,22,13],[23,10,23,11],[23,12,23,13],[18,1,18,7],[18,10,18,11],[18,12,18,13],[19,10,19,11],[19,12,19,13],[20,10,20,11],[20,12,20,13],[16,1,16,7],[16,8,16,9],[16,10,16,11],[16,12,16,13],[17,10,17,11],[17,12,17,13],[5,1,6,6],[5,10,6,14],[10,1,11,4],[10,5,11,8],[15,8,15,9],[15,10,15,11],[15,12,15,13]]}
[null,null,null,null,null,null,null,null,null,null,"No：","123456-123",null,"請求日：","2025-06-27"]
[]
[null,20211221]
[null,null,null,null,null,null,null,null,null,null,"株式会社 日本サンプル"]
[null,"〒 123-1234 東京都世田谷区〇〇〇 1-2-3",null,null,null,null,null,null,null,null,"東京都杉並区〇〇〇１－２－３"]
[null,"株式会社サンプル　〇〇支社",null,null,null,null,null,null,null,null,"△△△ビル １Ｆ １２３ "]
[]
[null,"営業部　担当者：△△  □□ 様",null,null,null,null,null,null,null,null,"☎ 03-1234-5678　✉ info@japansample.com "]
[]
[null,"下記の通りご請求申し上げます。"]
[null,"請求金額(税込)",null,null,null,{"$f":"$M$50","v":407957393}]
[]
[]
[]
[]
[]
[null,"商品名 / 品目",null,null,null,null,null,null,"数　量",null,"単　価",null,"金　額",null,"備 考"]
[null,{"$f":"見積書!B18","v":"○○○○○○　サンプル　タイプＡ"},null,null,null,null,null,null,{"$f":"見積書!I18","v":12345678},{"$f":"見積書!J18","v":"個数"},{"$f":"見積書!K18","v":10},null,{"$f":"I18*K18","v":123456780},null,{"$f":"見積書!O18","v":" "}]
[null,{"$f":"見積書!B19","v":"△△△△　システム機器( 自動調整タイプ )"},null,null,null,null,null,null,{"$f":"見積書!I19","v":2},{"$f":"見積書!J19","v":"台"},{"$f":"見積書!K19","v":123456789},null,{"$f":"I19*K19","v":246913578},null,{"$f":"見積書!O19","v":"担当：〇〇"}]
[null,{"$f":"見積書!B20","v":"△△△△　システムの取付作業"},null,null,null,null,null,null,{"$f":"見積書!I20","v":3},{"$f":"見積書!J20","v":"人"},{"$f":"見積書!K20","v":30000},null,{"$f":"I20*K20","v":90000},null,{"$f":"見積書!O20","v":" "}]
[null,{"$f":"見積書!B21","v":"△△△△　システムの操作説明　講習会"},null,null,null,null,null,null,{"$f":"見積書!I21","v":40},{"$f":"見積書!J21","v":"個数"},{"$f":"見積書!K21","v":4000},null,160000,null,{"$f":"見積書!O21","v":" "}]
[null,{"$f":"見積書!B22","v":"□□□□○○○○素材　( ✖✖ を含む )"},null,null,null,null,null,null,{"$f":"見積書!I22","v":50},{"$f":"見積書!J22","v":"Kg"},{"$f":"見積書!K22","v":5000},null,250000,null,{"$f":"見積書!O22","v":" "}]
[null,{"$f":"見積書!B23","v":" "},null,null,null,null,null,null,{"$f":"見積書!I23","v":0},{"$f":"見積書!J23","v":" "},{"$f":"見積書!K23","v":0},null,0,null,{"$f":"見積書!O23","v":" "}]
[null,{"$f":"見積書!B24","v":" "},null,null,null,null,null,null,{"$f":"見積書!I24","v":0},{"$f":"見積書!J24","v":" "},{"$f":"見積書!K24","v":0},null,{"$f":"I24*K24","v":0},null,{"$f":"見積書!O24","v":" "}]
[null,{"$f":"見積書!B25","v":" "},null,null,null,null,null,null,{"$f":"見積書!I25","v":0},{"$f":"見積書!J25","v":" "},{"$f":"見積書!K25","v":0},null,{"$f":"I25*K25","v":0},null,{"$f":"見積書!O25","v":" "}]
[null,{"$f":"見積書!B26","v":" "},null,null,null,null,null,null,{"$f":"見積書!I26","v":0},{"$f":"見積書!J26","v":" "},{"$f":"見積書!K26","v":0},null,{"$f":"I26*K26","v":0},null,{"$f":"見積書!O26","v":" "}]
[null,{"$f":"見積書!B27","v":" "},null,null,null,null,null,null,{"$f":"見積書!I27","v":0},{"$f":"見積書!J27","v":" "},{"$f":"見積書!K27","v":0},null,0,null,{"$f":"見積書!O27","v":" "}]
[null,{"$f":"見積書!B28","v":" "},null,null,null,null,null,null,{"$f":"見積書!I28","v":0},{"$f":"見積書!J28","v":" "},{"$f":"見積書!K28","v":0},null,0,null,{"$f":"見積書!O28","v":" "}]
[null,{"$f":"見積書!B29","v":" "},null,null,null,null,null,null,{"$f":"見積書!I29","v":0},{"$f":"見積書!J29","v":" "},{"$f":"見積書!K29","v":0},null,0,null,{"$f":"見積書!O29","v":" "}]
[null,{"$f":"見積書!B30","v":" "},null,null,null,null,null,null,{"$f":"見積書!I30","v":0},{"$f":"見積書!J30","v":" "},{"$f":"見積書!K30","v":0},null,0,null,{"$f":"見積書!O30","v":" "}]
[null,{"$f":"見積書!B31","v":" "},null,null,null,null,null,null,{"$f":"見積書!I31","v":0},{"$f":"見積書!J31","v":" "},{"$f":"見積書!K31","v":0},null,0,null,{"$f":"見積書!O31","v":" "}]
[null,{"$f":"見積書!B32","v":" "},null,null,null,null,null,null,{"$f":"見積書!I32","v":0},{"$f":"見積書!J32","v":" "},{"$f":"見積書!K32","v":0},null,0,null,{"$f":"見積書!O32","v":" "}]
[null,{"$f":"見積書!B33","v":" "},null,null,null,null,null,null,{"$f":"見積書!I33","v":0},{"$f":"見積書!J33","v":" "},{"$f":"見積書!K33","v":0},null,0,null,{"$f":"見積書!O33","v":" "}]
[null,{"$f":"見積書!B34","v":" "},null,null,null,null,null,null,{"$f":"見積書!I34","v":0},{"$f":"見積書!J34","v":" "},{"$f":"見積書!K34","v":0},null,0,null,{"$f":"見積書!O34","v":" "}]
[null,{"$f":"見積書!B35","v":" "},null,null,null,null,null,null,{"$f":"見積書!I35","v":0},{"$f":"見積書!J35","v":" "},{"$f":"見積書!K35","v":0},null,0,null,{"$f":"見積書!O35","v":" "}]
[null,{"$f":"見積書!B36","v":" "},null,null,null,null,null,null,{"$f":"見積書!I36","v":0},{"$f":"見積書!J36","v":" "},{"$f":"見積書!K36","v":0},null,{"$f":"I36*K36","v":0},null,{"$f":"見積書!O36","v":" "}]
[null,{"$f":"見積書!B37","v":" "},null,null,null,null,null,null,{"$f":"見積書!I37","v":0},{"$f":"見積書!J37","v":" "},{"$f":"見積書!K37","v":0},null,{"$f":"I37*K37","v":0},null,{"$f":"見積書!O37","v":" "}]
[null,{"$f":"見積書!B38","v":" "},null,null,null,null,null,null,{"$f":"見積書!I38","v":0},{"$f":"見積書!J38","v":" "},{"$f":"見積書!K38","v":0},null,{"$f":"I38*K38","v":0},null,{"$f":"見積書!O38","v":" "}]
[null,{"$f":"見積書!B39","v":" "},null,null,null,null,null,null,{"$f":"見積書!I39","v":0},{"$f":"見積書!J39","v":" "},{"$f":"見積書!K39","v":0},null,0,null,{"$f":"見積書!O39","v":" "}]
[null,{"$f":"見積書!B40","v":" "},null,null,null,null,null,null,{"$f":"見積書!I40","v":0},{"$f":"見積書!J40","v":" "},{"$f":"見積書!K40","v":0},null,0,null,{"$f":"見積書!O40","v":" "}]
[null,{"$f":"見積書!B41","v":" "},null,null,null,null,null,null,{"$f":"見積書!I41","v":0},{"$f":"見積書!J41","v":" "},{"$f":"見積書!K41","v":0},null,0,null,{"$f":"見積書!O41","v":" "}]
[null,{"$f":"見積書!B42","v":" "},null,null,null,null,null,null,{"$f":"見積書!I42","v":0},{"$f":"見積書!J42","v":" "},{"$f":"見積書!K42","v":0},null,0,null,{"$f":"見積書!O42","v":" "}]
[null,{"$f":"見積書!B43","v":" "},null,null,null,null,null,null,{"$f":"見積書!I43","v":0},{"$f":"見積書!J43","v":" "},{"$f":"見積書!K43","v":0},null,0,null,{"$f":"見積書!O43","v":" "}]
[null,{"$f":"見積書!B44","v":" "},null,null,null,null,null,null,{"$f":"見積書!I44","v":0},{"$f":"見積書!J44","v":" "},{"$f":"見積書!K44","v":0},null,0,null,{"$f":"見積書!O44","v":" "}]
[null,{"$f":"見積書!B45","v":" "},null,null,null,null,null,null,{"$f":"見積書!I45","v":0},{"$f":"見積書!J45","v":" "},{"$f":"見積書!K45","v":0},null,0,null,{"$f":"見積書!O45","v":" "}]
[null,{"$f":"見積書!B46","v":" "},null,null,null,null,null,null,{"$f":"見積書!I46","v":0},{"$f":"見積書!J46","v":" "},{"$f":"見積書!K46","v":0},null,0,null,{"$f":"見積書!O46","v":" "}]
[null,{"$f":"見積書!B47","v":" "},null,null,null,null,null,null,{"$f":"見積書!I47","v":0},{"$f":"見積書!J47","v":" "},{"$f":"見積書!K47","v":0},null,0,null,{"$f":"見積書!O47","v":" "}]
[]
[null,"2021-12-31",null,null,null,null,null,null,"小　計 (税抜)",null,"消費税",10,"合　計 (税込)"]
[null,"※お振込手数料は御社ご負担にてお願いします",null,null,null,null,null,null,{"$f":"SUM(M18:N47)","v":370870358},null,{"$f":"INT(I50*L49/100)","v":37087035},null,{"$f":"I50+K50","v":407957393}]
[]
[null,"備考欄："]